BEGIN:VCALENDAR
VERSION:2.0
PRODID:-//The Stanford Society - ECPv6.15.1.1//NONSGML v1.0//EN
CALSCALE:GREGORIAN
METHOD:PUBLISH
X-WR-CALNAME:The Stanford Society
X-ORIGINAL-URL:https://www.thestanfordsociety.org
X-WR-CALDESC:Events for The Stanford Society
REFRESH-INTERVAL;VALUE=DURATION:PT1H
X-Robots-Tag:noindex
X-PUBLISHED-TTL:PT1H
BEGIN:VTIMEZONE
TZID:UTC
BEGIN:STANDARD
TZOFFSETFROM:+0000
TZOFFSETTO:+0000
TZNAME:UTC
DTSTART:20180101T000000
END:STANDARD
END:VTIMEZONE
BEGIN:VEVENT
DTSTART;TZID=UTC:20180908T191500
DTEND;TZID=UTC:20180908T191500
DTSTAMP:20260424T053200
CREATED:20180706T083711Z
LAST-MODIFIED:20180706T083806Z
UID:761-1536434100-1536434100@www.thestanfordsociety.org
SUMMARY:The Proms - Last Night of the Proms
DESCRIPTION:BBC Proms\nGerland Finley will be singing Stanford’s Songs of the Sea Op.91 alongside Elgar\, Parry\, Wood and Arne in the Last night of the Proms.\n\nSongs of Darkness\, Dreams of Light (BBC commission: world première) – Panufnik\nSongs of the Sea\, Op.91 – Stanford\nBlest Pair of Sirens – Parry\nScaramouche\, Op.165b – Milhaud\nCarousel: Soliloquy – Rodgers\nFantasia on British Sea-Songs – arr. Wood\nRule\, Britannia! (arr. Sargent)– Arne\nPomp and Circumstance March No. 1 in D major (‘Land of Hope and Glory’) – Elgar\nJerusalem (orch. Elgar) – Parry\nThe National Anthem – Anonymous\nAuld Lang Syne – Traditional\n\n\n\nJess Gillam\, Saxophone\nGerald Finley\, Baritone\nBBC Singers\nBBC Symphony Chorus\nBBC Symphony Orchestra\nSir Andrew Davis\, Conductor
URL:https://www.thestanfordsociety.org/events/the-proms-last-night-of-the-proms/
LOCATION:Royal Albert Hall\, Kensington Gore\, London\, Greater London\, SW7 2AP\, United Kingdom
END:VEVENT
BEGIN:VEVENT
DTSTART;TZID=UTC:20180901T150000
DTEND;TZID=UTC:20180901T150000
DTSTAMP:20260424T053200
CREATED:20180706T082938Z
LAST-MODIFIED:20180706T082938Z
UID:757-1535814000-1535814000@www.thestanfordsociety.org
SUMMARY:The Proms - Alexandra Palace: Trial by Jury
DESCRIPTION:As part of the Proms 2018\, the BBC Singers and BBC Concert Orchestra will be performing works by Stanford\, Parry\, and Coleridge-Taylor and they will be performing Sullivan’s Trial by Jury in concert.\n\n\nWorks by Parry\nWorks by Coleridge-Taylor\nWorks by\n\nTrial by Jury (concert performance) – Sullivan\n\n\nJane Glover\, Conductor\nNeal Davies\, The Learned Judge\nSam Furness\, The Defendant\nMary Bevan\, The Plaintiff\nRoss Ramgobin\, Counsel for the Plaintiff\nBBC Singers\nBBC Concert Orchestra
URL:https://www.thestanfordsociety.org/events/the-proms-alexandra-palace-trial-by-jury/
LOCATION:Alexandra Palace\, Alexandra Palace\, London\, Greater London\, N22 7AY\, United Kingdom
END:VEVENT
BEGIN:VEVENT
DTSTART;TZID=UTC:20180812T170000
DTEND;TZID=UTC:20180812T170000
DTSTAMP:20260424T053200
CREATED:20180704T152124Z
LAST-MODIFIED:20180704T152124Z
UID:751-1534093200-1534093200@www.thestanfordsociety.org
SUMMARY:Eglise Notre-Dame de Notre-Dame-d'Estrées
DESCRIPTION:Les Promenades musicales du Pays d’Auge\nThe Ensemble Perspectives will be performing a selection of choral works including Stanford’s Farewell my Joy at the Les Promenades musicales du Pays d’Auge Festival in Normandy. The programme is as follows: \n\nDown to the River to Pray – Traditional\nBy the Lone Sea Shore – Coleridge-Taylor \nChor der Engel – Schubert\nPhillis is My Only Joy – Hobbs\nLoch Lomond – Traditional\nFarewell my Joy – Stanford\nThat Lonesome Road – Taylor\nThe Lamb – Tavener\n50 ways to Leave your Lover – Simon\nDem dunkeln Schoß der Heilgen Erde – Brahms\nDido’s Lament – Purcell\nAh! mon beau laboureur – Poulenc\nMedley – The Beatles\n\n\n\nEnsemble Perspectives\nMathide Bobot – Soprano\nMarie Pouchelon – Alto\nMathieu Dubroca – Baritone\nGeoffroy Heurard – Bass-baritone\nSean Clayton – Tenor\n\n\n“Décloisonner\, c’est le maître-mot de l’Ensemble Perspectives\, mélanger les styles et les genres\, les siècles et les modes. Un concert de fête!”
URL:https://www.thestanfordsociety.org/events/eglise-notre-dame-de-notre-dame-destrees/
LOCATION:Eglise Notre-Dame de Notre-Dame-d’Estrées\, Notre-Dame-d'Estrées\, Normandy\, 14340\, France
END:VEVENT
BEGIN:VEVENT
DTSTART;TZID=UTC:20180806T130000
DTEND;TZID=UTC:20180806T130000
DTSTAMP:20260424T053200
CREATED:20180704T102943Z
LAST-MODIFIED:20180704T102943Z
UID:686-1533560400-1533560400@www.thestanfordsociety.org
SUMMARY:The Proms - Cadogan Hall 4: Sarah Connolly & Joseph Middleton
DESCRIPTION:As part of the BBC Proms 2018\, Dame Sarah Connolly will be performing a selection of songs (including Stanford) with accompaniment from Joseph Middleton on Piano. The programme is as follows:\n\nA soft day – Stanford\nWeep you no more\, sad fountains – Parry\nThe House of Life – ‘Love-Sight’ – Vaughan Williams\nThou didst delight my eyes – Gurney\nInto my heart an air that kills – Somervell\nCome to me in my dreams – Bridge\nGoddess of Night – Howells\nJourney’s end – Bridge\nA Sweet Lullaby (world première) – Britten\nSomnus (world première) – Britten\nJourney’s End – Holst\nA Charm of Lullabies – Britten\nFarewell (world première) – Turnage \nSleeplessness … Sails (BBC commission: world première) – Illean \n\n\n\n\n\nDame Sarah Connolly\, Mezzo-soprano\nJoseph Middleton\, Piano\n\n\nFor more information on the Proms\, please visit the Proms events website.
URL:https://www.thestanfordsociety.org/events/the-proms-cadogan-hall-4-sarah-connolly-joseph-middleton/
LOCATION:Cadogan Hall\, 5 Sloane Terrace\, London\, Greater London\, SW1X 9DQ\, United Kingdom
END:VEVENT
BEGIN:VEVENT
DTSTART;TZID=UTC:20180804T193000
DTEND;TZID=UTC:20180804T193000
DTSTAMP:20260424T053200
CREATED:20180704T100401Z
LAST-MODIFIED:20180704T100401Z
UID:676-1533411000-1533411000@www.thestanfordsociety.org
SUMMARY:Christuskirche\, Dresden
DESCRIPTION:Organ Recital\n\nThe organ recital will be given by Robert Smith on the 1905 Jehmlich organ at Christuskirche\, Dresden. The programme as follows: \n\n\n\n\nFantasia and Toccata in D minor\, Op.57 – Stanford \nPrelude on ‘Rhosymedre’ – Vaughan Williams\nO Gott\, du Frommer Gott\, Op.122 no.7 – Brahms\nChorale Prelude on ‘Wenn mein Stündlein vorhanden ist’ – Gowers\nAn Occasional Trumpet Voluntary – Gowers\nBenedictus – Reger\nSaraband (in modo elegiaco) – Howells\nPrelude and Fugue on a theme of Cyril Scott\, Op.69 – Rubbra\nA quiet pavan\, with canons – Baigent\nSospiri for string orchestra and harp\, Op.70 – Elgar\nAnnum per annum – Pärt
URL:https://www.thestanfordsociety.org/events/christuskirche-dresden/
LOCATION:Christuskirche\, An der Christuskirche\, Dresden\, Saxony\, 01219\, Germany
END:VEVENT
BEGIN:VEVENT
DTSTART;TZID=UTC:20180802T193000
DTEND;TZID=UTC:20180802T193000
DTSTAMP:20260424T053200
CREATED:20180704T095323Z
LAST-MODIFIED:20180704T100503Z
UID:667-1533238200-1533238200@www.thestanfordsociety.org
SUMMARY:St Marienkirche\, Pirna
DESCRIPTION:Organ Recital\n\nThe organ recital will be given by Robert Smith at St Marienkirche\, Pirna. The programme as follows: \n\n\nPrelude and Fugue “Grand” in E Minor\, BWV548 – Bach\n\nPrelude on ‘Rhosymedre’ – Vaughan Williams\nFantasia and Toccata in D minor\, Op.57 – Stanford\nVariations and Fugue on “Heil dir im Siegerkranz” – Reger \nMaster Tallis’s Testament – Howells\nWork for Organ – Dennehy\nAnnum per annum – Pärt\nA quiet pavan\, with canons – Baigent\nJoie et Clarte des Corps Glorieux – Messiaen\nMozart Changes – Gárdonyi\nSalamanca – Bovet
URL:https://www.thestanfordsociety.org/events/st-marienkirche-pirna/
LOCATION:St Marienkirche\, Kirchplatz 13\, Pirna\, Saxony\, 01796\, Germany
END:VEVENT
BEGIN:VEVENT
DTSTART;TZID=UTC:20180731T200000
DTEND;TZID=UTC:20180731T200000
DTSTAMP:20260424T053200
CREATED:20180704T094124Z
LAST-MODIFIED:20180704T094552Z
UID:660-1533067200-1533067200@www.thestanfordsociety.org
SUMMARY:St Gertraud-Kirche\, Frankfurt an der Oder
DESCRIPTION:Organ Recital\nThe organ recital will be given by Robert Smith on the 1879 Sauer organ in St Gertraud-Kirche\, Frankfurt an der Oder. The programme as follows:\n\n\nPrelude and Fugue “Grand” in E Minor\, BWV548 – Bach\nO Gott\, du Frommer Gott\, Op.122 no.7– Brahms\nSaraband (in modo elegiaco) – Howells\, \nPrelude on ‘Rhosymedre’ – Vaughan Williams\, \nFantasia and Toccata in D minor\, Op.57 – Stanford\, \nPrelude and Fugue on a Theme of Cyril Scott\, Op.69 – Rubbra\, \nWork for Organ – Dennehy\, \nA quiet pavan\, with canons – Baigent\, \nMozart Changes – Gárdonyi\, 
URL:https://www.thestanfordsociety.org/events/st-gertraud-kirche-frankfurt-an-der-oder/
LOCATION:St Gertraud-Kirche\, Gertraudenplatz 6\, Frankfurt an der Oder\, Brandenburg\, 15230\, Germany
END:VEVENT
BEGIN:VEVENT
DTSTART;TZID=UTC:20180731T193000
DTEND;TZID=UTC:20180731T193000
DTSTAMP:20260424T053200
CREATED:20180704T144644Z
LAST-MODIFIED:20180704T144959Z
UID:743-1533065400-1533065400@www.thestanfordsociety.org
SUMMARY:Lake District Summer Music Festival
DESCRIPTION:Stanford in the Lake District\nStanford’s La Belle Dame Sans Merci will be featuring in a concert given by Ailish Tynan (Soprano) and Simon Lepper (Piano) with additional accompaniment from Jonathan Farey (Horn)* and Adam Slater (Clarinet)† in this year’s Lake District Summer Music Festival. \nThe concert will take place in St Thomas’s Church\, Kendal at 7:30pm on Tuesday 31st July 2018. \nThe programme for the concert is as follows: \nBrahms Five songs from Op.6\, 7 & 58 \nWeir A Spanish Liederbooklet \nSchubert Ellens Gesänge\, D837-9 \nSchubert Auf dem Strom\, D943* \nBarber Nuvoletta\, Op.25 \nBarber Solitary hotel\, Op.41 No.4 \nBarber St Ita’s Vision\, Op.29 No.3 \nBingham The Shadow Side of Joy Finzi \nStanford La belle dame sans merci \nSchubert Der Hirt auf dem Felsen\, D965† \nPlease visit the Lake District Summer Music website for more information.
URL:https://www.thestanfordsociety.org/events/lake-district-summer-music-festival/
LOCATION:St Thomas’s Church\, Stricklandgate\, Kendal\, LA9 4QG\, United Kingdom
END:VEVENT
BEGIN:VEVENT
DTSTART;TZID=UTC:20180729T170000
DTEND;TZID=UTC:20180729T170000
DTSTAMP:20260424T053200
CREATED:20180704T093318Z
LAST-MODIFIED:20180704T093318Z
UID:656-1532883600-1532883600@www.thestanfordsociety.org
SUMMARY:St Mary's Cathedral\, Fürstenwalde
DESCRIPTION:Organ Recital\nThe organ recital will be given by Robert Smith on the 1967/2005 Schuke organ in St Mary’s Cathedral\, Fürstenwalde. The programme as follows:\n\nPrelude and Fugue “Grand” in E Minor\, BWV548 – J.S.Bach\nPrelude on ‘Rhosymedre’ – Vaughan Williams\nFantasia and Toccata in D minor\, Op.57 – Stanford\nPrelude and Fugue on a theme of Cyril Scott\, Op.69 – Rubbra\nSaraband (in modo elegiaco) – Howells\nLe banquet céleste\, for solo organ – Messiaen\nAnnum per annum – Pärt\nA quiet pavan\, with canons – Baigent\nWork for Organ – Dennehy\nMozart Changes – Gárdonyi
URL:https://www.thestanfordsociety.org/events/st-marys-cathedral-furstenwalde/
LOCATION:St Mary’s Cathedral\, Domplatz 10\, Fürstenwalde\, Brandenburg\, 15517\, Germany
END:VEVENT
BEGIN:VEVENT
DTSTART;TZID=UTC:20180714T193000
DTEND;TZID=UTC:20180714T193000
DTSTAMP:20260424T053200
CREATED:20180704T092131Z
LAST-MODIFIED:20180704T092131Z
UID:652-1531596600-1531596600@www.thestanfordsociety.org
SUMMARY:St Nicholas Cathedral\, Newcastle-upon-Tyne
DESCRIPTION:Peace and Comfort\nChoral concert taking place at St Nicholas Cathedral given by the Chicago Master Singers\, the programme as follows: \nRequiem – Howells \nValiant for Truth – Vaughan Williams \nSong for Athene – Tavener \nWhen Mary through the Garden Went Op.127 No.3 – Stanford \nCantate Domino – Rutter
URL:https://www.thestanfordsociety.org/events/st-nicholas-cathedral-newcastle-upon-tyne/
LOCATION:St Nicholas Cathedral\, St Nicholas Square\, Newcastle upon Tyne\, NE1 1PF\, United Kingdom
END:VEVENT
BEGIN:VEVENT
DTSTART;TZID=UTC:20180712T183000
DTEND;TZID=UTC:20180712T183000
DTSTAMP:20260424T053200
CREATED:20180704T091612Z
LAST-MODIFIED:20180704T093700Z
UID:648-1531420200-1531420200@www.thestanfordsociety.org
SUMMARY:Peterborough Cathedral
DESCRIPTION:Peace and Comfort\nChoral concert taking place at Peterborough Cathedral given by the Chicago Master Singers\, the programme as follows: \nRequiem – Howells \nValiant for Truth – Vaughan Williams \nSong for Athene – Tavener \nWhen Mary through the Garden Went Op.127 No.3 – Stanford \nCantate Domino – Rutter
URL:https://www.thestanfordsociety.org/events/peterborough-cathedral/
LOCATION:Peterborough Cathedral\, Peterborough\, PE1 1XS\, United Kingdom
END:VEVENT
BEGIN:VEVENT
DTSTART;TZID=UTC:20180709T180000
DTEND;TZID=UTC:20180709T180000
DTSTAMP:20260424T053200
CREATED:20180704T085605Z
LAST-MODIFIED:20180704T092234Z
UID:644-1531159200-1531159200@www.thestanfordsociety.org
SUMMARY:St John's College Chapel
DESCRIPTION:Peace and Comfort\nChoral concert taking place at St John’s College Chapel\, Cambridge given by the Chicago Master Singers\, the programme as follows: \nRequiem – Howells \nValiant for Truth – Vaughan Williams \nSong for Athene – Tavener \nWhen Mary through the Garden Went Op.127 No.3 – Stanford \nCantate Domino – Rutter
URL:https://www.thestanfordsociety.org/events/st-johns-college-chapel/
LOCATION:St John’s College Chapel\, Cambridge\, CB2 1TP\, United Kingdom
END:VEVENT
BEGIN:VEVENT
DTSTART;TZID=UTC:20180708T140000
DTEND;TZID=UTC:20180708T140000
DTSTAMP:20260424T053200
CREATED:20180704T081309Z
LAST-MODIFIED:20180704T090728Z
UID:632-1531058400-1531058400@www.thestanfordsociety.org
SUMMARY:Leamington Chamber Orchestra
DESCRIPTION:On Sunday 8th July\, Leamington Chamber Orchestra will be performing Stanford’s Irish Concertino for Violin\, Cello and Orchestra. The concert will take place at 3pm in Leamington Spa Town Hall\, CV32 4AT. There will also be refreshments in the interval. \nThe programme will be as follows: \nElegy to Brahms – Parry \nAn Irish Concertino – Stanford \nSymphony No. 2 – Brahms \nThe soloists for the performance are Amy Littlewood (violin) and Lucy Arch (cello). The conductor will be Richard Laing. \nTickets are £14\, £12 (concessions)\, £2 (full-time students and carers)  and they will be available on the door or direct from Jayne.stafford@btinternet.com (02476441243). \nFor more information on the Leamington Chamber Orchestra and their concerts\, please visit their website for more details. \nStanford completed the Irish Concertino on 22nd January 1918 for May (Violin) and Beatrice (Cello)\, the daughters of Colonel and Mrs John Harrison\, close family friends of Stanford. The work is in two movements; the first taking the form of variations on an original theme and the second\, an Irish reel. \nThe premiere was given by the Harrison sisters in a reduced form prepared by Stanford on 4th December 1918 at Wigmore Hall. The full orchestral version was heard only once at Bournemouth on 22nd April 1920. This orchestral version will be performed by the Leamington Chamber Orchestra.
URL:https://www.thestanfordsociety.org/events/leamington-chamber-orchestra/
LOCATION:Leamington Spa Town Hall\, The Parade\, Leamington Spa\, Warwickshire\, CV32 4AT\, United Kingdom
CATEGORIES:Concerts
ATTACH;FMTTYPE=image/png:https://www.thestanfordsociety.org/wp-content/uploads/2018/07/cropped-LCO-Banner-Large-02.png
END:VEVENT
BEGIN:VEVENT
DTSTART;TZID=UTC:20180707T183000
DTEND;TZID=UTC:20180707T183000
DTSTAMP:20260424T053200
CREATED:20180704T084127Z
LAST-MODIFIED:20180704T090526Z
UID:640-1530988200-1530988200@www.thestanfordsociety.org
SUMMARY:Barnet Choral Society
DESCRIPTION:The Barnet Choral Society will be performing a number of works including Stanford’s Bluebird. Please see programme below: \nThe Marriage of True Minds – Chilcott \nBirthday Madrigals – Rutter \nDrei Volkslieder – Mendelssohn \nAs Torrents in Summer – Elgar \nThe Blue Bird – Stanford
URL:https://www.thestanfordsociety.org/events/barnet-choral-society/
LOCATION:St John the Evangelist Church\, St John the Evangelist Church\, Friern Barnet\, Friern Barnet Road\, London\, Greater London\, N11 3EQ\, United Kingdom
END:VEVENT
END:VCALENDAR