BEGIN:VCALENDAR
VERSION:2.0
PRODID:-//The Stanford Society - ECPv6.15.1.1//NONSGML v1.0//EN
CALSCALE:GREGORIAN
METHOD:PUBLISH
X-WR-CALNAME:The Stanford Society
X-ORIGINAL-URL:https://www.thestanfordsociety.org
X-WR-CALDESC:Events for The Stanford Society
REFRESH-INTERVAL;VALUE=DURATION:PT1H
X-Robots-Tag:noindex
X-PUBLISHED-TTL:PT1H
BEGIN:VTIMEZONE
TZID:UTC
BEGIN:STANDARD
TZOFFSETFROM:+0000
TZOFFSETTO:+0000
TZNAME:UTC
DTSTART:20180101T000000
END:STANDARD
END:VTIMEZONE
BEGIN:VEVENT
DTSTART;TZID=UTC:20200515T193000
DTEND;TZID=UTC:20200515T193000
DTSTAMP:20260424T000532
CREATED:20190806T174205Z
LAST-MODIFIED:20190806T174205Z
UID:1071-1589571000-1589571000@www.thestanfordsociety.org
SUMMARY:National Concert Hall\, Dublin
DESCRIPTION:Stanford’s Requiem\n\n\nStanford – Requiem\n\n\nRTÉ National Symphony Orchestra\nGerhard Markson\, Conductor\nRTÉ Philharmonic Choir\nMáire Flavin\, Soprano\nSharon Carty\, Mezzo-soprano\nGavan Ring\, Baritone\nJohn Molloy\, Bass-baritone
URL:https://www.thestanfordsociety.org/events/national-concert-hall-dublin-3/
LOCATION:National Concert Hall\, Dublin\, Ireland
END:VEVENT
BEGIN:VEVENT
DTSTART;TZID=UTC:20200110T193000
DTEND;TZID=UTC:20200110T193000
DTSTAMP:20260424T000532
CREATED:20190806T174018Z
LAST-MODIFIED:20190806T174018Z
UID:1069-1578684600-1578684600@www.thestanfordsociety.org
SUMMARY:National Concert Hall\, Dublin
DESCRIPTION:Towards 2022\n\n\nBoydell – In Memoriam Mahatma Gandhi\nBoyle – Psalm for Cello and Orchestra\nBoyle – Elegy for Cello and Orchestra\nStanford – Symphony no. 3 in F minor “Irish”\, Op.28\n\n\nRTÉ National Symphony Orchestra\nGeorge Jackson\, Conductor\nMartin Johnson\, Baritone
URL:https://www.thestanfordsociety.org/events/national-concert-hall-dublin-2/
LOCATION:National Concert Hall\, Dublin\, Ireland
END:VEVENT
BEGIN:VEVENT
DTSTART;TZID=UTC:20200104T120000
DTEND;TZID=UTC:20200104T120000
DTSTAMP:20260424T000532
CREATED:20190806T173731Z
LAST-MODIFIED:20190806T173731Z
UID:1065-1578139200-1578139200@www.thestanfordsociety.org
SUMMARY:Central Methodist Church\, York
DESCRIPTION:Organ Recital\n\n\nBaigent – A quiet pavan\, with canons\nStanford – Fantasia and Toccata in D minor\, Op.57\nRubbra – Prelude and Fugue on a theme of Cyril Scott\, Op.69\nReger – Variations and Fugue on “Heil dir im Siegerkranz”\n\n\nRobert Smith\, Organ
URL:https://www.thestanfordsociety.org/events/central-methodist-church-york/
LOCATION:Central Methodist Church\, St Saviourgate\, York\, Yorkshire and the Humber\, YO1 8NQ\, United Kingdom
END:VEVENT
BEGIN:VEVENT
DTSTART;TZID=UTC:20191028T170000
DTEND;TZID=UTC:20191028T170000
DTSTAMP:20260424T000532
CREATED:20190806T173436Z
LAST-MODIFIED:20190806T173436Z
UID:1060-1572282000-1572282000@www.thestanfordsociety.org
SUMMARY:O'Reilly Theatre\, National Opera House\, Wexford
DESCRIPTION:The Veiled Prophet (Opera)\nStanford – The Veiled Prophet (Concert performance)\n\n\nWexford Festival Opera\nDavid Brophy\, Conductor\nChorus of Wexford Festival Opera\nOrchestra of Wexford Festival Opera
URL:https://www.thestanfordsociety.org/events/oreilly-theatre-national-opera-house-wexford/
LOCATION:O’Reilly Theatre\, National Opera House\, High St\, Ferrybank South\, Wexford\, County Wexford\, Y35 FEP3\, Ireland
END:VEVENT
BEGIN:VEVENT
DTSTART;TZID=UTC:20191027T150000
DTEND;TZID=UTC:20191027T150000
DTSTAMP:20260424T000532
CREATED:20190806T173014Z
LAST-MODIFIED:20190806T173014Z
UID:1056-1572188400-1572188400@www.thestanfordsociety.org
SUMMARY:Malvern College: The Great Hall
DESCRIPTION:Autumn in Malvern Festival\nStanford – String Quartet no. 3 in D minor\nStanford – Choral music\nElgar – Choral music\n\n\nAldwyn Voices\nAdrian Lucas\, Conductor\nBrompton Quartet\, Quartet\nPeter Sutton\, Narrator
URL:https://www.thestanfordsociety.org/events/malvern-college-the-great-hall/
LOCATION:Malvern College\, College Road\, Malvern\, West Midlands\, WR14 3DF\, United Kingdom
END:VEVENT
BEGIN:VEVENT
DTSTART;TZID=UTC:20190826T153000
DTEND;TZID=UTC:20190826T153000
DTSTAMP:20260424T000532
CREATED:20190806T172621Z
LAST-MODIFIED:20190806T172621Z
UID:1052-1566833400-1566833400@www.thestanfordsociety.org
SUMMARY:Southwell Minster\, Southwell
DESCRIPTION:Organ Recital\nBairstow – Organ Sonata in E flat: Allegro giocoso\nBach – Concerto in G Major\, BWV592\nVierne – Clair de Lune\nSchumann – Etude in canon form in B minor\, Op.56 no.5\nStanford – Postlude in D minor\n\n\n\n\nPaul Provost\, Organ
URL:https://www.thestanfordsociety.org/events/southwell-minster-southwell/
LOCATION:Southwell Minster\, Southwell\, East Midlands\, NG25 0HD\, United Kingdom
END:VEVENT
BEGIN:VEVENT
DTSTART;TZID=UTC:20190825T190000
DTEND;TZID=UTC:20190825T190000
DTSTAMP:20260424T000532
CREATED:20190806T172225Z
LAST-MODIFIED:20190806T172225Z
UID:1049-1566759600-1566759600@www.thestanfordsociety.org
SUMMARY:St Augustine's Church\, Bexhill- on-Sea
DESCRIPTION:Stanford – On Time\, Op.142\nGrieg – Ave Maris Stella\nHolst – Ave Maria\, Op.9b\nRheinberger – Mass in E flat major\, Op.109 “Cantus Missae”\nIreland – The Hills\nChilcott – Even such is time\nChatman – Clocks\nVaughan Williams – Three Shakespeare Songs\nCampion – Never weather-beaten sail\nBrahms – Vineta – Vineta \, Op.42 no.2\nGabrieli – Lasso\, amor mi trasporta\nPurcell – King Arthur\, Z 628: fairest isle all isles excelling (arr. Andrew Griffiths)\nHolst – I Love my Love\nHolst – Swansea Town\n\n\n\nLondinium\nAndrew Griffiths\, Conductor
URL:https://www.thestanfordsociety.org/events/st-augustines-church-bexhill-on-sea/
LOCATION:St Augustine’s Church\, St Augustine's Close\, Bexhill-on-Sea\, South-East\, TN39 3AZ\, United Kingdom
END:VEVENT
BEGIN:VEVENT
DTSTART;TZID=UTC:20190824T200000
DTEND;TZID=UTC:20190824T200000
DTSTAMP:20260424T000532
CREATED:20190806T175140Z
LAST-MODIFIED:20190806T175140Z
UID:1073-1566676800-1566676800@www.thestanfordsociety.org
SUMMARY:Royal Cinque Ports Golf Club\, Deal
DESCRIPTION:Ensemble Eyas\nStanford – The Princess \nSomervell – Windflowers by A. Somervell \nEasthope Martin – The Mountebanks \nLehmann – Nonsense songs
URL:https://www.thestanfordsociety.org/events/royal-cinque-ports-golf-club-deal/
LOCATION:Royal Cinque Ports Golf Club\, Gold Road\, Deal\, Kent\, CT14 6RF\, United Kingdom
END:VEVENT
BEGIN:VEVENT
DTSTART;TZID=UTC:20190824T193000
DTEND;TZID=UTC:20190824T193000
DTSTAMP:20260424T000532
CREATED:20190806T171047Z
LAST-MODIFIED:20190806T171047Z
UID:1043-1566675000-1566675000@www.thestanfordsociety.org
SUMMARY:Morley Town Hall
DESCRIPTION:Much Ado About Nothing (Opera)\nStanford – Much Ado About Nothing \n\n\n\nNorthern Opera Group\n\n\n\n\nChris Pelly\nConductor\n\n\n\nDavid James Ward\nDirector\n\n\n\nTiffany Dawson\nSet Designer\n\n\n\nCatrin Woodruff\nSoprano\nBeatrice\n\n\nPhilip Wilcox\nBass\nBenedick\n\n\nCharlotte Hoather\nSoprano\nHero\n\n\nRoger Paterson\nTenor\nClaudio\n\n\nEdward Robinson\nBaritone\nDon Pedro\n\n\nJake Muffett\nBaritone\nLeonato\n\n\nWilliam Branston\nTenor\nBorachio\n\n\nThomas Hopkinson\nBass\nDon John\n\n\n\n 
URL:https://www.thestanfordsociety.org/events/morley-town-hall-2/
LOCATION:Morley Town Hall\, Leeds\, Yorkshire and the Humber\, LS27 9DY\, United Kingdom
END:VEVENT
BEGIN:VEVENT
DTSTART;TZID=UTC:20190824T190000
DTEND;TZID=UTC:20190824T190000
DTSTAMP:20260424T000532
CREATED:20190806T171902Z
LAST-MODIFIED:20190806T171902Z
UID:1045-1566673200-1566673200@www.thestanfordsociety.org
SUMMARY:Christ Church\, St Leonards-on-Sea\, Hastings
DESCRIPTION:Stanford – On Time\, Op.142\nGrieg – Ave Maris Stella\nHolst – Ave Maria\, Op.9b\nRheinberger – Mass in E flat major\, Op.109 “Cantus Missae”\nIreland – The Hills\nChilcott – Even such is time\nChatman – Clocks\nVaughan Williams – Three Shakespeare Songs\nCampion – Never weather-beaten sail\nBrahms – Vineta – Vineta \, Op.42 no.2\nGabrieli – Lasso\, amor mi trasporta\nPurcell – King Arthur\, Z 628: fairest isle all isles excelling (arr. Andrew Griffiths)\nHolst – I Love my Love\nHolst – Swansea Town\n\n\n\nLondinium\nAndrew Griffiths\, Conductor
URL:https://www.thestanfordsociety.org/events/christ-church-st-leonards-on-sea-hastings/
LOCATION:Christ Church\, Silchester Road\, Hastings\, South-East\, TN38 0JB\, United Kingdom
END:VEVENT
BEGIN:VEVENT
DTSTART;TZID=UTC:20190823T193000
DTEND;TZID=UTC:20190823T193000
DTSTAMP:20260424T000532
CREATED:20190806T170904Z
LAST-MODIFIED:20190806T170904Z
UID:1036-1566588600-1566588600@www.thestanfordsociety.org
SUMMARY:Morley Town Hall
DESCRIPTION:Much Ado About Nothing (Opera)\nStanford – Much Ado About Nothing \n\n\n\nNorthern Opera Group\n\n\n\n\nChris Pelly\nConductor\n\n\n\nDavid James Ward\nDirector\n\n\n\nTiffany Dawson\nSet Designer\n\n\n\nCatrin Woodruff\nSoprano\nBeatrice\n\n\nPhilip Wilcox\nBass\nBenedick\n\n\nCharlotte Hoather\nSoprano\nHero\n\n\nRoger Paterson\nTenor\nClaudio\n\n\nEdward Robinson\nBaritone\nDon Pedro\n\n\nJake Muffett\nBaritone\nLeonato\n\n\nWilliam Branston\nTenor\nBorachio\n\n\nThomas Hopkinson\nBass\nDon John
URL:https://www.thestanfordsociety.org/events/morley-town-hall/
LOCATION:Morley Town Hall\, Leeds\, Yorkshire and the Humber\, LS27 9DY\, United Kingdom
END:VEVENT
BEGIN:VEVENT
DTSTART;TZID=UTC:20190807T190000
DTEND;TZID=UTC:20190807T190000
DTSTAMP:20260424T000532
CREATED:20190806T165957Z
LAST-MODIFIED:20190806T165957Z
UID:1031-1565204400-1565204400@www.thestanfordsociety.org
SUMMARY:DCR Hatch Memorial Shell\, Boston
DESCRIPTION:Mercury Orchestra\n\n \nStanford\, Phaurig Crohoore\, Op.62\n\nBeach\, Symphony No.2 in E minor “Gaelic Symphony”\, Op.32
URL:https://www.thestanfordsociety.org/events/dcr-hatch-memorial-shell-boston/
LOCATION:DCR Hatch Memorial Shell\, 47 David G Muger Way\, Boston\, MA\, 02108\, United States
END:VEVENT
BEGIN:VEVENT
DTSTART;TZID=UTC:20190714T183000
DTEND;TZID=UTC:20190714T183000
DTSTAMP:20260424T000532
CREATED:20190217T131337Z
LAST-MODIFIED:20190217T131337Z
UID:928-1563129000-1563129000@www.thestanfordsociety.org
SUMMARY:St Gregory's Centre for Music\, Canterbury
DESCRIPTION:Summer Serenade\n\nVaughan Williams\, Serenade to Music\nStanford\, The Blue Bird\, Op.119/iii\nBritten\, Five Flower Songs for SATB\, Op.47\nMathias\, Shakespeare Songs\, Op.80\nMcDowall\, A fancy of folksongs\n\n\n\nCity of Canterbury Chamber Choir\nEdward-Rhys Harry\, Conductor\nEdward Kemp-Luck\, Organ
URL:https://www.thestanfordsociety.org/events/st-gregorys-centre-for-music-canterbury/
LOCATION:St Gregory’s Centre for Music\, Canterbury\, United Kingdom
END:VEVENT
BEGIN:VEVENT
DTSTART;TZID=UTC:20190531T190000
DTEND;TZID=UTC:20190531T190000
DTSTAMP:20260424T000532
CREATED:20190217T131039Z
LAST-MODIFIED:20190217T131039Z
UID:925-1559329200-1559329200@www.thestanfordsociety.org
SUMMARY:St James's Episcopal Church\, West Hartford\, Connecticut
DESCRIPTION:Grand Organ Music of Great Britain\nElgar\, Imperial March for orchestra\, Op.32\nWorks by Stanford\nHowells\, Rhapsody no. 3 in C sharp minor\nBairstow\, Organ Sonata in E-Flat\nWhitlock\, Four Extemporisations: Fanfare\nWhitlock\, Four Extemporisations: Fidelis [Whitlock]\nWalton\, Crown Imperial \n\nMauren Vaughn\, Organ
URL:https://www.thestanfordsociety.org/events/st-jamess-episcopal-church-west-hartford-connecticut/
LOCATION:St James’s Episcopal Church\, 1018 Farmington Ave\, West Hartford\, CT\, 06107\, United States
END:VEVENT
BEGIN:VEVENT
DTSTART;TZID=UTC:20190525T141500
DTEND;TZID=UTC:20190525T141500
DTSTAMP:20260424T000532
CREATED:20190217T125937Z
LAST-MODIFIED:20190217T125937Z
UID:923-1558793700-1558793700@www.thestanfordsociety.org
SUMMARY:Dorchester Abbey\, Dorchester-on-Thames
DESCRIPTION:The English Music Festival\nStanford\, O for a closer walk with God\nStanford\, How beauteous are their feet\nIreland\, Ex ore innocentium\nStanford\, Pray that Jerusalem\nHowells\, Mine eye for beauty pine\nParry\, Long since in Egypt’s plenteous land\nSheppard\, In manus tuas\nTomkins\, In manus tuas\nTallis\, If ye love me\nTallis\, Te lucis ante terminum\nStanford\, Prelude on ‘St. Columba’\nBairstow\, The King of Love my Sheperd is\nMilford\, Prelude on ‘St. Columba’\nVaughan Williams\, Five Mystical Songs: The Call\n\n\n\nOxford The Choir of Worcester College
URL:https://www.thestanfordsociety.org/events/dorchester-abbey-dorchester-on-thames-2/
LOCATION:Dorchester Abbey\, Dorchester-on-Thames\, Oxfordshire\, OX10 7HH\, United Kingdom
END:VEVENT
BEGIN:VEVENT
DTSTART;TZID=UTC:20190524T193000
DTEND;TZID=UTC:20190524T193000
DTSTAMP:20260424T000532
CREATED:20190217T125335Z
LAST-MODIFIED:20190217T125622Z
UID:920-1558726200-1558726200@www.thestanfordsociety.org
SUMMARY:Dorchester Abbey\, Dorchester-on-Thames
DESCRIPTION:BBC Concert Orchestra perform premieres by Vaughan Williams\, Stanford and Milford\nBerners\, Portsmouth Point\, Overture (world premiere)\nArnold\, Serenade for Small Orchestra\nStanford\, Violin Concerto in D (world premiere)\nVaughan Williams\, The Blue Bird (world premiere)\nDelius\, A Song Before Sunrise\nMilford\, Symphony (world premiere)\n\n\n\nBBC Concert Orchestra\nSergey Levetin\, Violin\nMartin Yates\, Conductor
URL:https://www.thestanfordsociety.org/events/dorchester-abbey-dorchester-on-thames/
LOCATION:Dorchester Abbey\, Dorchester-on-Thames\, Oxfordshire\, OX10 7HH\, United Kingdom
END:VEVENT
BEGIN:VEVENT
DTSTART;TZID=UTC:20190520T123000
DTEND;TZID=UTC:20190520T123000
DTSTAMP:20260424T000532
CREATED:20180706T091023Z
LAST-MODIFIED:20180706T091023Z
UID:777-1558355400-1558355400@www.thestanfordsociety.org
SUMMARY:Victoria Concert Hall\, Singapore
DESCRIPTION:VCH Organ Series: If With All Your Hearts\n  \n\nMessiah\, HWV 56: excerpts– Handel\nThe Creation (Die Schöpfung)\, Hob XXI:2: Mit Wurd’ und Hoheit angetan – Haydn\nElijah\, Op.70: excerpts – Mendelssohn\nBible Songs and Six Hymns\, Op. 113: excerpts – Stanford\n\n\n\nSingapore Symphony Orchestra\nEvelyn Ang\, Soprano\nJoshua Chang\, Tenor\nPhoon Yu\, Organ
URL:https://www.thestanfordsociety.org/events/victoria-concert-hall-singapore/
LOCATION:Victoria Concert Hall\, Singapore\, 179558\, Singapore
END:VEVENT
BEGIN:VEVENT
DTSTART;TZID=UTC:20190407T144500
DTEND;TZID=UTC:20190407T144500
DTSTAMP:20260424T000532
CREATED:20181124T172159Z
LAST-MODIFIED:20181124T172159Z
UID:893-1554648300-1554648300@www.thestanfordsociety.org
SUMMARY:Assembly Hall\, Worthing
DESCRIPTION:Greig Piano Concerto and Stanford Symphony No.6\nJerusalem – Parry\nSalut d’Amour (Liebesgruss) for violin and piano\, Op.12 – Elgar\nPiano Concerto in A minor\, Op.16 – Greig\nWalk to the Paradise Garden – Delius\nSymphony no. 6 in E flat major “In Memoriam G.F. Watts”\, Op.94 – Stanford\n\n\n\nArta Arnicane\, Piano\nWorthing Symphony Orchestra\nJohn Gibbons\, Conductor
URL:https://www.thestanfordsociety.org/events/assembly-hall-worthing/
LOCATION:Assembly Hall\, Worthing\, South-East\, BN11 1HQ\, United Kingdom
END:VEVENT
BEGIN:VEVENT
DTSTART;TZID=UTC:20190330T193000
DTEND;TZID=UTC:20190330T193000
DTSTAMP:20260424T000532
CREATED:20190217T131953Z
LAST-MODIFIED:20190217T133320Z
UID:931-1553974200-1553974200@www.thestanfordsociety.org
SUMMARY:St Matthew's Church\, Chapel Allerton
DESCRIPTION:The White Rose Orchestra & Voces Seraphorum\n  \nStanford\, Songs of the Fleet \nRafferty\, Journey to the Promised Land \nVaughan Williams\, The Wasps \nElgar\, Imperial March \n 
URL:https://www.thestanfordsociety.org/events/st-matthews-church-chapel-allerton/
LOCATION:St Matthew’s Church\, Chapel Allerton\, LS7 3QF\, United Kingdom
ATTACH;FMTTYPE=image/jpeg:https://www.thestanfordsociety.org/wp-content/uploads/2019/02/WRO-MAR-19.jpg
END:VEVENT
BEGIN:VEVENT
DTSTART;TZID=UTC:20190323T170000
DTEND;TZID=UTC:20190323T170000
DTSTAMP:20260424T000532
CREATED:20190217T124840Z
LAST-MODIFIED:20190217T124840Z
UID:917-1553360400-1553360400@www.thestanfordsociety.org
SUMMARY:St Michael's Church\, Hereford
DESCRIPTION:“My Love She Mourneth; From Despair to Joy”\nCornysh II\, My love she mourn’th for me\nByrd\, Aspice Domine de sede\nSeers\, Jonathan\, Look Down O Lord\nByrd\, Tristitia et anxietas\nDebussy\, Quant j’ai ouy la tabourin\nCornysh II\, Ah\, Robin\, gentle Robin\nPoulenc\, 4 petites prières de St François d’Assise: Seigneur\, je vous en prie\nStanford\, Beati Quorum Via\, Op.38 no.3\nByrd\, Turn Our Captivity\, Oh Lord \n\nThe Hexad Singers
URL:https://www.thestanfordsociety.org/events/st-michaels-church-hereford/
LOCATION:St Michael’s Church\, Michaelchurch Escley\, Hereford\, HR2 0JS\, United Kingdom
END:VEVENT
BEGIN:VEVENT
DTSTART;TZID=UTC:20190322T193000
DTEND;TZID=UTC:20190322T193000
DTSTAMP:20260424T000532
CREATED:20181124T171316Z
LAST-MODIFIED:20181124T171403Z
UID:886-1553283000-1553283000@www.thestanfordsociety.org
SUMMARY:Congress Graz: Stenfaniensaal\, Austria
DESCRIPTION:Festkonzert: Bridges\n\nWorks by Bernstein\nWorks by Rutter\nWorks by Stanford\nWorks by Elgar\n\nChristiaan van de Woestijne – Organ\nFranz M. Herzog\, Konzeption | Gesamtleitung\nBoğaziçi Jazz Choir\nMasis Gozbek – Chorus director\nChor Pro Musica Graz\nGerd Kenda – Chorus director\nChor\, Solisten und Instrumentalisten des Johann-Joseph-Fux Konservatoriums
URL:https://www.thestanfordsociety.org/events/congress-graz-stenfaniensaal-austria/
LOCATION:Congress Graz: Stenfaniensaal\, Sparkassenplatz 1\, Graz\, Styria\, 8010\, Austria
END:VEVENT
BEGIN:VEVENT
DTSTART;TZID=UTC:20190316T193000
DTEND;TZID=UTC:20190316T193000
DTSTAMP:20260424T000532
CREATED:20190217T124215Z
LAST-MODIFIED:20190217T124245Z
UID:914-1552764600-1552764600@www.thestanfordsociety.org
SUMMARY:Church of the Holy Spirit\, Southsea
DESCRIPTION:Spring Concert\nStanford\, Three Latin Motets\, Op.38\nStanford\, For lo\, I raise up\, Op.145\nStanford\, The Blue Bird\, Op.119/iii\nHaydn\, Insanae et vanae curae\nVierne\, Messe Solennelle\, Op.16\n\n\n\nLucy Braga\, Soprano\nMark Dancer\, Organ\nBen Lathbury\, Conductor\nPortsmouth Festival Choir
URL:https://www.thestanfordsociety.org/events/church-of-the-holy-spirit-southsea/
LOCATION:Church of the Holy Spirit\, Fawcett Road\, Southsea\, PO4 0DY\, United Kingdom
END:VEVENT
BEGIN:VEVENT
DTSTART;TZID=UTC:20190313T193000
DTEND;TZID=UTC:20190313T193000
DTSTAMP:20260424T000532
CREATED:20190217T123836Z
LAST-MODIFIED:20190217T123836Z
UID:912-1552505400-1552505400@www.thestanfordsociety.org
SUMMARY:St James's Church\, London
DESCRIPTION:Yale Glee Club presents Bernstein alongside The Choir With No Name\nBernstein\, West Side Story: Somewhere (arranged by Robert Edgerton)\nBarber\, Other (Agnus Dei)\nStanford\, Other (Three Motets\, Op. 37 ) \n\nYale Glee Club\nThe Choir With No Name
URL:https://www.thestanfordsociety.org/events/st-jamess-church-london/
LOCATION:St James’s Church\, Piccadilly\, London\, Greater London\, W1J 9LL\, United Kingdom
END:VEVENT
BEGIN:VEVENT
DTSTART;TZID=UTC:20190302T170000
DTEND;TZID=UTC:20190302T170000
DTSTAMP:20260424T000532
CREATED:20190217T123535Z
LAST-MODIFIED:20190217T123535Z
UID:909-1551546000-1551546000@www.thestanfordsociety.org
SUMMARY:Gloucester Cathedral\, Gloucester.
DESCRIPTION:Durufle Requiem: 70th Anniversary Concert\nTye\, O come Ye servants of the Lord\nEccard\, When to the Temple Mary went\nRedford\, Rejoice in the Lord\nHowells\, Here is the little door\nParry\, My soul there is a country\nBennett\, The Women of Samaria: God is a Spirit\nStanford\, Beati Quorum Via\, Op.38 no.3\nWhitlock\, Jesu\, grant me this I pray\nBairstow\, Let All Mortal Flesh Keep Silence\nWood\, Glory and honour and laud\nHowells\, A Hymn to St Cecilia\nDuruflé\, Requiem \n\nSaint Cecilia Singers\nJonathan Hope\, Conductor\nChristopher Allsop\, Organ
URL:https://www.thestanfordsociety.org/events/gloucester-cathedral-gloucester/
LOCATION:Gloucester Cathedral\, 12 College Green\, Gloucester\, Gloucestershire\, GL1 2LX\, United Kingdom
END:VEVENT
BEGIN:VEVENT
DTSTART;TZID=UTC:20190209T193000
DTEND;TZID=UTC:20190209T193000
DTSTAMP:20260424T000532
CREATED:20181124T170216Z
LAST-MODIFIED:20181124T170317Z
UID:882-1549740600-1549740600@www.thestanfordsociety.org
SUMMARY:Wigmore Hall\, London
DESCRIPTION:Michael Collins\nIntroduction and Allegro appassionato\, for clarinet and piano\, Op.256 – Reinecke\nClarinet Sonata\, Op.129 – Stanford\nClarinet sonata no.1 in F minor\, Op.120 no.1 – Brahms\nPremière Rhapsodie in B flat major\, for clarinet and piano – Debussy\nRhapsodos – Betinis\nViolin Sonata in A major (arr. for clarinet) – Franck \nMichael Collins – Clarinet\nMichael McHale – Piano
URL:https://www.thestanfordsociety.org/events/882/
LOCATION:Wigmore Hall\, 36 Wigmore Street\, London\, Greater London\, W1U 2BP\, United Kingdom
END:VEVENT
BEGIN:VEVENT
DTSTART;TZID=UTC:20190201T193000
DTEND;TZID=UTC:20190201T193000
DTSTAMP:20260424T000532
CREATED:20181124T165331Z
LAST-MODIFIED:20181124T165331Z
UID:875-1549049400-1549049400@www.thestanfordsociety.org
SUMMARY:National Concert Hall\, Dublin
DESCRIPTION:Towards 2022\nIrish Rhapsody no. 2 in F minor\, Op.84 “The Lament for the Son of Ossian” – Stanford\nConcerto for Organ and Orchestra – Buckley\nSymphony no. 1\, “Glencree” – Boyle \nFergal Caulfield – Organ\nRTÉ National Symphony Orchestra\nDavid Brophy – Conductor
URL:https://www.thestanfordsociety.org/events/national-concert-hall-dublin/
LOCATION:National Concert Hall\, Dublin\, Ireland
END:VEVENT
BEGIN:VEVENT
DTSTART;TZID=UTC:20190117T193000
DTEND;TZID=UTC:20190117T193000
DTSTAMP:20260424T000532
CREATED:20181123T175642Z
LAST-MODIFIED:20181123T175747Z
UID:871-1547753400-1547753400@www.thestanfordsociety.org
SUMMARY:St James's Church\, Piccadilly
DESCRIPTION:Songs of the Heart and Hereafter\n\nAn evening of songs showcasing the work of British composer\, Samuel Coleridge-Taylor\, alongside songs written by his peers\, Elgar and Vaughan-Williams\, and his composition teacher at the Royal College of Music\, Charles Villiers Stanford. \nColeridge-Taylor was once hailed by a New York critic in 1901 as the “Black Mahler”\, so the recital ends with a performance of Elizabeth’s favourite collection of songs\, Mahler’s Rückert Lieder. \n\n\nColeridge-Taylor\, African Romances\, Op.17: Love Song\nColeridge-Taylor\, African Romances\, Op.17: How shall I woo thee?\nStanford\, A Sheaf of Songs from Leinster\, Op.140: The bold\, unbiddable child\nStanford\, A Sheaf of Songs from Leinster\, Op.140: A soft day\nElgar\, Like to the damask Rose\nElgar\, Caractacus\, Op.35: O’erarched by leaves\nVaughan Williams\, The House of life: no. 2 Silent Noon\nVaughan Williams\, Orpheus with his lute\nColeridge-Taylor\, Southern Love Songs\, Op.12: Minguillo\nColeridge-Taylor\, Life and Death\nColeridge-Taylor\, Six sorrow songs\, Op.57\nMahler\, Rückert-Lieder\n\n\n\nElizabeth Llewellyn\, Soprano\nSimon Lepper\, Piano
URL:https://www.thestanfordsociety.org/events/st-jamess-church-piccadilly/
LOCATION:St James’s Church\, Piccadilly\, London\, Greater London\, W1J 9LL\, United Kingdom
END:VEVENT
BEGIN:VEVENT
DTSTART;TZID=UTC:20181228T193000
DTEND;TZID=UTC:20181228T193000
DTSTAMP:20260424T000532
CREATED:20180706T090423Z
LAST-MODIFIED:20180706T090423Z
UID:774-1546025400-1546025400@www.thestanfordsociety.org
SUMMARY:Wigmore Hall\, London
DESCRIPTION:Nicky Spence and Roger Vignoles\n  \n\nMyrthen: Hochlanders Abschied\, Op.25 no.13 – Schumann\nMyrthen: Jemand\, Op.25 no.4 – Schumann\nMyrthen: Hochlandisches Wiegenlied\, Op.25 no.14 – Schumann\nMyrthen: Niemand\, Op.25 no.22 – Schumann\nDem roten Röslein gleicht mein Lieb\, Op.27 no.2 – Schumann\nSix Romances on Verses by English Poets for bass and piano: O wert thou in the cauld blast Op.62 no. 2 – Shostakovich\nSix Romances on Verses by English Poets for bass and piano: Macpherson’s Farewell Op.62 no. 3 – Shostakovich\nSix Romances on Verses by English Poets for bass and piano: Jenny Op.62 no. 4 – Shostakovich\nWho are these Children? for tenor and piano\, Op.84 – Britten\nA Song for Christmas – Musgrave\, \nOh men from the fields – Hughes\, \nThe Monkey’s Carol – Stanford\, \nCome sing and dance – Howells\, \nNevicata – Respighi\, \nPastorcito santo – Rodrigo\, \nA Ceremony of Carols\, Op.28: That Yonge Childe – Britten\nNoël des enfants qui n’ont plus de maison – Debussy\nWeihnachtsgefühl TrV 198 – R Strauss\nWinterweihe\, Op.48 no.4 – R Strauss\nEpiphanias – Wolf\, \n\n\n\nNicky Spence\, Tenor\nRoger Vignoles\, Piano
URL:https://www.thestanfordsociety.org/events/wigmore-hall-london-2/
LOCATION:Wigmore Hall\, 36 Wigmore Street\, London\, Greater London\, W1U 2BP\, United Kingdom
END:VEVENT
BEGIN:VEVENT
DTSTART;TZID=UTC:20181209T143000
DTEND;TZID=UTC:20181209T143000
DTSTAMP:20260424T000532
CREATED:20181115T132733Z
LAST-MODIFIED:20181115T132733Z
UID:851-1544365800-1544365800@www.thestanfordsociety.org
SUMMARY:St Andrew's on the Terrace\, Wellington
DESCRIPTION:Ian Ridgewell conducts the Wellington Chamber Orchestra in a programme of work spanning from the late 19th to the mid 20th century. The soloist is Matthew Stein\, freshly returned to New Zealand from doing his Master of Music at the Guildhall in London. Matthew is a Wellingtonian and a graduate of Te Kōki New Zealand School of Music. He was NZSM Brass Player of the Year in 2010 and won the Brassiers and Armourers Brass Prize at the Guildhall in 2017. \nFinzi – The Fall of the Leaf\, Op.20\, 1926–29\nArutiunian – Trumpet Concerto\, 1949–50\nStanford – Symphony No.3\, the Irish Symphony\, Op. 28\, 1887
URL:https://www.thestanfordsociety.org/events/st-andrews-on-the-terrace-wellington/
LOCATION:St Andrew’s on the Terrace\, 30 The Terrace\, Wellington\, 6011\, New Zealand
ATTACH;FMTTYPE=application/pdf:https://www.thestanfordsociety.org/wp-content/uploads/2018/11/2018-season-concert-4-v31.pdf
END:VEVENT
BEGIN:VEVENT
DTSTART;TZID=UTC:20181202T150000
DTEND;TZID=UTC:20181202T150000
DTSTAMP:20260424T000532
CREATED:20181123T173249Z
LAST-MODIFIED:20181123T173249Z
UID:863-1543762800-1543762800@www.thestanfordsociety.org
SUMMARY:Saffron Hall\, Saffron Walden
DESCRIPTION:The Travelling Companion\nA mysterious stranger\, a princess\, a wizard’s riddle\, with haunting\, romantic music: the exciting re-discovery of Charles Villiers Stanford’s last and arguably finest opera\, based on a story by Hans Christian Andersen\, with libretto by Henry Newbolt. This is the first professional production of the work for over eighty years\, and the first recording of any of Stanford’s nine operas – a key event in the current renaissance of interest in his music. \n\n\n\n\n\n\n\n\n\nNew Sussex Opera Orchestra\nNew Sussex Opera Chorus\nNew Sussex Opera Dancers\nconductor Toby Purser\ndirector Paul Higgins\ndesigner Isabella Van Braeckel\nlighting designer Tom Turner\nchoreographer Roseanna Anderson\n\n\n\n\n\n\n\n\n\n\n\nJohn David Horton\nThe Travelling Companion Julien Van Mellaerts\nThe Princess Kate Valentine\nThe King Pauls Putnins\nThe Wizard Ian Beadle\nThe Herald Felix Kemp\nTwo girls Tamzin Barnett\, Lucy Urquhart
URL:https://www.thestanfordsociety.org/events/saffron-hall-saffron-walden/
LOCATION:Saffron Hall\, Saffron Walden\, United Kingdom
ATTACH;FMTTYPE=image/jpeg:https://www.thestanfordsociety.org/wp-content/uploads/2018/11/Image-square-1000.jpg
END:VEVENT
END:VCALENDAR